BEGIN:VCALENDAR
VERSION:2.0
PRODID:-//Kootenay Christian Academy - ECPv6.15.20//NONSGML v1.0//EN
CALSCALE:GREGORIAN
METHOD:PUBLISH
X-WR-CALNAME:Kootenay Christian Academy
X-ORIGINAL-URL:https://www.kcacademy.ca
X-WR-CALDESC:Events for Kootenay Christian Academy
REFRESH-INTERVAL;VALUE=DURATION:PT1H
X-Robots-Tag:noindex
X-PUBLISHED-TTL:PT1H
BEGIN:VTIMEZONE
TZID:America/Edmonton
BEGIN:DAYLIGHT
TZOFFSETFROM:-0700
TZOFFSETTO:-0600
TZNAME:MDT
DTSTART:20240310T090000
END:DAYLIGHT
BEGIN:STANDARD
TZOFFSETFROM:-0600
TZOFFSETTO:-0700
TZNAME:MST
DTSTART:20241103T080000
END:STANDARD
BEGIN:DAYLIGHT
TZOFFSETFROM:-0700
TZOFFSETTO:-0600
TZNAME:MDT
DTSTART:20250309T090000
END:DAYLIGHT
BEGIN:STANDARD
TZOFFSETFROM:-0600
TZOFFSETTO:-0700
TZNAME:MST
DTSTART:20251102T080000
END:STANDARD
BEGIN:DAYLIGHT
TZOFFSETFROM:-0700
TZOFFSETTO:-0600
TZNAME:MDT
DTSTART:20260308T090000
END:DAYLIGHT
BEGIN:STANDARD
TZOFFSETFROM:-0600
TZOFFSETTO:-0700
TZNAME:MST
DTSTART:20261101T080000
END:STANDARD
BEGIN:DAYLIGHT
TZOFFSETFROM:-0700
TZOFFSETTO:-0600
TZNAME:MDT
DTSTART:20270314T090000
END:DAYLIGHT
BEGIN:STANDARD
TZOFFSETFROM:-0600
TZOFFSETTO:-0700
TZNAME:MST
DTSTART:20271107T080000
END:STANDARD
END:VTIMEZONE
BEGIN:VEVENT
DTSTART;TZID=America/Edmonton:20250228T190000
DTEND;TZID=America/Edmonton:20250228T220000
DTSTAMP:20260419T193537
CREATED:20250204T180308Z
LAST-MODIFIED:20250204T181412Z
UID:27939-1740769200-1740780000@www.kcacademy.ca
SUMMARY:Pink the Rink
DESCRIPTION:Pink the Rink school challenge is a part of the anti-bullying campaign sponsored by Western Financial Place. The school with the largest percentage of student participation will win an afternoon of floor hockey and autographs with the Cranbrook bucks. Wear pink! 
URL:https://www.kcacademy.ca/event/pink-the-rink/
LOCATION:Western Financial Place
CATEGORIES:KCA School-Wide Event
END:VEVENT
BEGIN:VEVENT
DTSTART;TZID=America/Edmonton:20250325T090000
DTEND;TZID=America/Edmonton:20250325T100000
DTSTAMP:20260419T193537
CREATED:20241118T231435Z
LAST-MODIFIED:20250204T181424Z
UID:1651-1742893200-1742896800@www.kcacademy.ca
SUMMARY:Parent Advisory Council Meeting
DESCRIPTION:It’s never too late\, please come and get involved!
URL:https://www.kcacademy.ca/event/parent-advisory-council-meeting-2/
LOCATION:Cranbrook Alliance Church Foyer\, 1200 Kootenay Street N\, Cranbrook\, BC\, V1C 5X1\, Canada
CATEGORIES:KCA School-Wide Event
END:VEVENT
BEGIN:VEVENT
DTSTART;VALUE=DATE:20250414
DTEND;VALUE=DATE:20250415
DTSTAMP:20260419T193537
CREATED:20250204T182225Z
LAST-MODIFIED:20250407T172840Z
UID:27956-1744588800-1744675199@www.kcacademy.ca
SUMMARY:Continuous Enrollment Deadline
DESCRIPTION:At KCA\, we operate on a Continuous Enrollment model! This means your child will automatically stay enrolled year after year until they graduate or you let us know otherwise. \n\nIf your child will not be returning to KCA\, please provide written notice (email works great!) to the office as soon as possible. To avoid a tuition penalty\, notice must be given before April 14\, 2025. 
URL:https://www.kcacademy.ca/event/continuous-enrollment-deadline/
LOCATION:Kootenay Christian Academy
CATEGORIES:KCA School-Wide Event
END:VEVENT
BEGIN:VEVENT
DTSTART;TZID=America/Edmonton:20250429T090000
DTEND;TZID=America/Edmonton:20250429T100000
DTSTAMP:20260419T193537
CREATED:20241118T231545Z
LAST-MODIFIED:20250204T181418Z
UID:1652-1745917200-1745920800@www.kcacademy.ca
SUMMARY:Parent Advisory Council Meeting
DESCRIPTION:It’s never too late\, please come and get involved!
URL:https://www.kcacademy.ca/event/parent-advisory-council-meeting-2-copy/
LOCATION:Cranbrook Alliance Church Foyer\, 1200 Kootenay Street N\, Cranbrook\, BC\, V1C 5X1\, Canada
CATEGORIES:KCA School-Wide Event
END:VEVENT
BEGIN:VEVENT
DTSTART;TZID=America/Edmonton:20250506T090000
DTEND;TZID=America/Edmonton:20250506T100000
DTSTAMP:20260419T193537
CREATED:20241118T231549Z
LAST-MODIFIED:20250505T194510Z
UID:1653-1746522000-1746525600@www.kcacademy.ca
SUMMARY:Parent Advisory Council Meeting
DESCRIPTION:It’s never too late\, please come and get involved!\n\nKCA PAC Agenda – May 2025
URL:https://www.kcacademy.ca/event/parent-advisory-council-meeting-2-copy-2/
LOCATION:Cranbrook Alliance Church Foyer\, 1200 Kootenay Street N\, Cranbrook\, BC\, V1C 5X1\, Canada
CATEGORIES:KCA School-Wide Event
END:VEVENT
BEGIN:VEVENT
DTSTART;TZID=America/Edmonton:20250624T090000
DTEND;TZID=America/Edmonton:20250624T100000
DTSTAMP:20260419T193537
CREATED:20241118T231554Z
LAST-MODIFIED:20250204T181402Z
UID:1654-1750755600-1750759200@www.kcacademy.ca
SUMMARY:Parent Advisory Council Meeting
DESCRIPTION:It’s never too late\, please come and get involved!
URL:https://www.kcacademy.ca/event/parent-advisory-council-meeting-2-copy-3/
LOCATION:Cranbrook Alliance Church Foyer\, 1200 Kootenay Street N\, Cranbrook\, BC\, V1C 5X1\, Canada
CATEGORIES:KCA School-Wide Event
END:VEVENT
BEGIN:VEVENT
DTSTART;TZID=America/Edmonton:20251107T111500
DTEND;TZID=America/Edmonton:20251107T111500
DTSTAMP:20260419T193537
CREATED:20251107T161337Z
LAST-MODIFIED:20251107T161431Z
UID:30984-1762514100-1762514100@www.kcacademy.ca
SUMMARY:Remembrance Day Celebration
DESCRIPTION:Parents\, families\, and community members are warmly invited to KCA’s Remembrance Day celebration at 11:15 AM as we gather to honour those who served and sacrificed for our freedom. We remember with gratitude and pray for peace\, mindful that “Greater love has no one than this\, that someone lay down his life for his friends” (John 15:13) and to “seek peace and pursue it” (Psalm 34:14).
URL:https://www.kcacademy.ca/event/remembrance-day-celebration-2/
LOCATION:Kootenay Christian Academy
CATEGORIES:KCA School-Wide Event
END:VEVENT
BEGIN:VEVENT
DTSTART;TZID=America/Edmonton:20260610T123000
DTEND;TZID=America/Edmonton:20260610T140000
DTSTAMP:20260419T193537
CREATED:20250905T152804Z
LAST-MODIFIED:20260119T194118Z
UID:30943-1781094600-1781100000@www.kcacademy.ca
SUMMARY:Graduation Ceremony
DESCRIPTION:Doors open at 12:30 for the ceremony to begin promptly at 1pm in the Sanctuary.\n\nAll are welcome.
URL:https://www.kcacademy.ca/event/graduation-ceremony/
LOCATION:Cranbrook Alliance Church Sanctuary\, 1200 Kootenay Street N\, Cranbrook\, BC\, V1C 5X1\, Canada
CATEGORIES:High School,KCA School-Wide Event
END:VEVENT
END:VCALENDAR